BEGIN:VCALENDAR
VERSION:2.0
PRODID:-//FLPL.org Redesign - ECPv6.15.15//NONSGML v1.0//EN
CALSCALE:GREGORIAN
METHOD:PUBLISH
X-WR-CALNAME:FLPL.org Redesign
X-ORIGINAL-URL:https://flplredesign.xyz
X-WR-CALDESC:Events for FLPL.org Redesign
REFRESH-INTERVAL;VALUE=DURATION:PT1H
X-Robots-Tag:noindex
X-PUBLISHED-TTL:PT1H
BEGIN:VTIMEZONE
TZID:America/Chicago
BEGIN:DAYLIGHT
TZOFFSETFROM:-0600
TZOFFSETTO:-0500
TZNAME:CDT
DTSTART:20250309T080000
END:DAYLIGHT
BEGIN:STANDARD
TZOFFSETFROM:-0500
TZOFFSETTO:-0600
TZNAME:CST
DTSTART:20251102T070000
END:STANDARD
BEGIN:DAYLIGHT
TZOFFSETFROM:-0600
TZOFFSETTO:-0500
TZNAME:CDT
DTSTART:20260308T080000
END:DAYLIGHT
BEGIN:STANDARD
TZOFFSETFROM:-0500
TZOFFSETTO:-0600
TZNAME:CST
DTSTART:20261101T070000
END:STANDARD
BEGIN:DAYLIGHT
TZOFFSETFROM:-0600
TZOFFSETTO:-0500
TZNAME:CDT
DTSTART:20270314T080000
END:DAYLIGHT
BEGIN:STANDARD
TZOFFSETFROM:-0500
TZOFFSETTO:-0600
TZNAME:CST
DTSTART:20271107T070000
END:STANDARD
END:VTIMEZONE
BEGIN:VEVENT
DTSTART;TZID=America/Chicago:20260420T161500
DTEND;TZID=America/Chicago:20260420T171500
DTSTAMP:20260420T022633
CREATED:20260312T174833Z
LAST-MODIFIED:20260419T171004Z
UID:10001575-1776701700-1776705300@flplredesign.xyz
SUMMARY:Whimsical Workshop
DESCRIPTION:Here at Whimsical Workshop\, we focus on all things crafts! Come create with us! Ages 15-18. Registration is required. Email teens@flpl.org to reserve your spot.
URL:https://flplredesign.xyz/event/whimsical-workshop-6/
CATEGORIES:Teens
ATTACH;FMTTYPE=image/png:https://flplredesign.xyz/wp-content/uploads/2025/07/flpl-teens-logo.png
END:VEVENT
END:VCALENDAR