BEGIN:VCALENDAR
VERSION:2.0
PRODID:-//FLPL.org Redesign - ECPv6.15.15//NONSGML v1.0//EN
CALSCALE:GREGORIAN
METHOD:PUBLISH
X-WR-CALNAME:FLPL.org Redesign
X-ORIGINAL-URL:https://flplredesign.xyz
X-WR-CALDESC:Events for FLPL.org Redesign
REFRESH-INTERVAL;VALUE=DURATION:PT1H
X-Robots-Tag:noindex
X-PUBLISHED-TTL:PT1H
BEGIN:VTIMEZONE
TZID:America/New_York
BEGIN:DAYLIGHT
TZOFFSETFROM:-0500
TZOFFSETTO:-0400
TZNAME:EDT
DTSTART:20250309T070000
END:DAYLIGHT
BEGIN:STANDARD
TZOFFSETFROM:-0400
TZOFFSETTO:-0500
TZNAME:EST
DTSTART:20251102T060000
END:STANDARD
BEGIN:DAYLIGHT
TZOFFSETFROM:-0500
TZOFFSETTO:-0400
TZNAME:EDT
DTSTART:20260308T070000
END:DAYLIGHT
BEGIN:STANDARD
TZOFFSETFROM:-0400
TZOFFSETTO:-0500
TZNAME:EST
DTSTART:20261101T060000
END:STANDARD
BEGIN:DAYLIGHT
TZOFFSETFROM:-0500
TZOFFSETTO:-0400
TZNAME:EDT
DTSTART:20270314T070000
END:DAYLIGHT
BEGIN:STANDARD
TZOFFSETFROM:-0400
TZOFFSETTO:-0500
TZNAME:EST
DTSTART:20271107T060000
END:STANDARD
END:VTIMEZONE
BEGIN:VTIMEZONE
TZID:America/Chicago
BEGIN:DAYLIGHT
TZOFFSETFROM:-0600
TZOFFSETTO:-0500
TZNAME:CDT
DTSTART:20250309T080000
END:DAYLIGHT
BEGIN:STANDARD
TZOFFSETFROM:-0500
TZOFFSETTO:-0600
TZNAME:CST
DTSTART:20251102T070000
END:STANDARD
BEGIN:DAYLIGHT
TZOFFSETFROM:-0600
TZOFFSETTO:-0500
TZNAME:CDT
DTSTART:20260308T080000
END:DAYLIGHT
BEGIN:STANDARD
TZOFFSETFROM:-0500
TZOFFSETTO:-0600
TZNAME:CST
DTSTART:20261101T070000
END:STANDARD
BEGIN:DAYLIGHT
TZOFFSETFROM:-0600
TZOFFSETTO:-0500
TZNAME:CDT
DTSTART:20270314T080000
END:DAYLIGHT
BEGIN:STANDARD
TZOFFSETFROM:-0500
TZOFFSETTO:-0600
TZNAME:CST
DTSTART:20271107T070000
END:STANDARD
END:VTIMEZONE
BEGIN:VEVENT
DTSTART;TZID=America/New_York:20260326T103000
DTEND;TZID=America/New_York:20260326T110000
DTSTAMP:20260422T061443
CREATED:20251023T175136Z
LAST-MODIFIED:20251023T175136Z
UID:10000313-1774521000-1774522800@flplredesign.xyz
SUMMARY:Terrific 2s
DESCRIPTION:Music\, poems\, stories\, and crafts will be a part of the fun at our program designed especially for two-year-olds. Age: 2 & caregiver.
URL:https://flplredesign.xyz/event/terrific-2s-15/2026-03-26/
CATEGORIES:Kids,Kids Featured
ATTACH;FMTTYPE=image/jpeg:https://flplredesign.xyz/wp-content/uploads/2025/09/terrific-2s-square.jpg
END:VEVENT
BEGIN:VEVENT
DTSTART;TZID=America/New_York:20260325T103000
DTEND;TZID=America/New_York:20260325T110000
DTSTAMP:20260422T061443
CREATED:20251023T175834Z
LAST-MODIFIED:20251023T175834Z
UID:10000573-1774434600-1774436400@flplredesign.xyz
SUMMARY:ABCs Under the Trees
DESCRIPTION:Come sing\, dance\, and have fun learning the alphabet. Contact the library for the letter of the week. Ages: 3 & 4.
URL:https://flplredesign.xyz/event/abcs-under-the-trees-15/2026-03-25/
CATEGORIES:Kids,Kids Featured
ATTACH;FMTTYPE=image/jpeg:https://flplredesign.xyz/wp-content/uploads/2025/09/abcs-under-the-trees-square.jpg
END:VEVENT
BEGIN:VEVENT
DTSTART;TZID=America/Chicago:20260324T161500
DTEND;TZID=America/Chicago:20260324T171500
DTSTAMP:20260422T061443
CREATED:20260125T185534Z
LAST-MODIFIED:20260217T044101Z
UID:10001189-1774368900-1774372500@flplredesign.xyz
SUMMARY:Teen DND
DESCRIPTION:If you’re looking for a story-filled D&D campaign\, this is for you! Join us for our Fall/Spring sessions where we continue to explore our love for all things fantasy. Ages 15-18. Registration is required. Email teens@flpl.org to reserve your spot!
URL:https://flplredesign.xyz/event/teen-dnd-11/
CATEGORIES:Teens
ATTACH;FMTTYPE=image/png:https://flplredesign.xyz/wp-content/uploads/2025/07/flpl-teens-logo.png
END:VEVENT
BEGIN:VEVENT
DTSTART;TZID=America/Chicago:20260324T130000
DTEND;TZID=America/Chicago:20260324T143000
DTSTAMP:20260422T061443
CREATED:20260218T215141Z
LAST-MODIFIED:20260324T174541Z
UID:10001556-1774357200-1774362600@flplredesign.xyz
SUMMARY:Basic Email
DESCRIPTION:Learn how to set up an email account\, compose\, receive\, and send emails as well as open and attach photos.
URL:https://flplredesign.xyz/event/basic-email-2/
CATEGORIES:Adults
ATTACH;FMTTYPE=image/png:https://flplredesign.xyz/wp-content/uploads/2025/07/logo-1.png
END:VEVENT
END:VCALENDAR